BEGIN:VCALENDAR
VERSION:2.0
PRODID:-//World Forestry Center - ECPv6.15.20//NONSGML v1.0//EN
CALSCALE:GREGORIAN
METHOD:PUBLISH
X-WR-CALNAME:World Forestry Center
X-ORIGINAL-URL:https://worldforestry.org
X-WR-CALDESC:Events for World Forestry Center
REFRESH-INTERVAL;VALUE=DURATION:PT1H
X-Robots-Tag:noindex
X-PUBLISHED-TTL:PT1H
BEGIN:VTIMEZONE
TZID:America/Los_Angeles
BEGIN:DAYLIGHT
TZOFFSETFROM:-0800
TZOFFSETTO:-0700
TZNAME:PDT
DTSTART:20230312T100000
END:DAYLIGHT
BEGIN:STANDARD
TZOFFSETFROM:-0700
TZOFFSETTO:-0800
TZNAME:PST
DTSTART:20231105T090000
END:STANDARD
BEGIN:DAYLIGHT
TZOFFSETFROM:-0800
TZOFFSETTO:-0700
TZNAME:PDT
DTSTART:20240310T100000
END:DAYLIGHT
BEGIN:STANDARD
TZOFFSETFROM:-0700
TZOFFSETTO:-0800
TZNAME:PST
DTSTART:20241103T090000
END:STANDARD
BEGIN:DAYLIGHT
TZOFFSETFROM:-0800
TZOFFSETTO:-0700
TZNAME:PDT
DTSTART:20250309T100000
END:DAYLIGHT
BEGIN:STANDARD
TZOFFSETFROM:-0700
TZOFFSETTO:-0800
TZNAME:PST
DTSTART:20251102T090000
END:STANDARD
END:VTIMEZONE
BEGIN:VEVENT
DTSTART;VALUE=DATE:20240601
DTEND;VALUE=DATE:20240930
DTSTAMP:20260421T072216
CREATED:20240730T184745Z
LAST-MODIFIED:20260211T080543Z
UID:10000111-1717200000-1727654399@worldforestry.org
SUMMARY:Tree People: Featured Exhibit
DESCRIPTION:World Forestry Center presents Tree People\, an exhibition by Finnish photographers Ritva Kovalainen and Sanni Seppo. This exhibition braids forest mythology with an almost forgotten treasure trove of customs and beliefs\, portraying the sacred connection between people and trees in Finnish folk culture. \nOn display\, June 1-September 29. \nLearn more at worldforestry.org/treepeople
URL:https://worldforestry.org/event/tree-people-featured-exhibit/
LOCATION:Discovery Museum Gallery\, 4033 SW Canyon Rd.\, Portland\, OR\, 97221\, United States
ATTACH;FMTTYPE=image/jpeg:https://worldforestry.org/wp-content/uploads/2026/02/tree-people-puiden-kansa.jpg
END:VEVENT
BEGIN:VEVENT
DTSTART;TZID=America/Los_Angeles:20240906T183000
DTEND;TZID=America/Los_Angeles:20240906T200000
DTSTAMP:20260421T072216
CREATED:20240812T173902Z
LAST-MODIFIED:20260211T075009Z
UID:10000115-1725647400-1725652800@worldforestry.org
SUMMARY:Artist Talk: Tree People
DESCRIPTION:Tree People: Artist Talk with Finnish Photographers Ritva Kovalainen and Sanni Seppo.\nCost: Free\, in support of First Friday! \nSeating is limited\, RSVP for a free ticket here.\nDoors: 6:00PM \nOptional Gallery Tour: 6:30PM \nArtist talk: 7:00PM \nCalling in from Finland\, Ritva Kovalainen and Sanni Seppo\, the artists behind World Forestry Center’s featured art exhibition Tree People\, will share about the ten years of research that lead up to the creation of their book and exhibition. \nThe Finnish photographers will speak about how their work braids Nordic forest mythology with an almost forgotten treasure trove of customs and beliefs\, portraying the sacred connection between people and trees in Finnish folk culture. There will be an optional gallery tour with World Forestry Center’s Experience Developer prior to the artist’s talk. \nTree People will be on view through September 29\, 2024. Learn more about the exhibition here.
URL:https://worldforestry.org/event/tree-people-artist-talk/
LOCATION:Mt. Hood Room\, Discovery Museum at the World Forestry Center\, 4033 SW Canyon Road\, Portland\, OR\, 97221\, United States
CATEGORIES:Adult,Discovery Museum,Featured Exhibit,Talk
ATTACH;FMTTYPE=image/jpeg:https://worldforestry.org/wp-content/uploads/2026/02/the-karsikko-pine-of-milma-laitinen.jpg
END:VEVENT
END:VCALENDAR