BEGIN:VCALENDAR
VERSION:2.0
PRODID:-//World Forestry Center - ECPv6.15.20//NONSGML v1.0//EN
CALSCALE:GREGORIAN
METHOD:PUBLISH
X-ORIGINAL-URL:https://worldforestry.org
X-WR-CALDESC:Events for World Forestry Center
REFRESH-INTERVAL;VALUE=DURATION:PT1H
X-Robots-Tag:noindex
X-PUBLISHED-TTL:PT1H
BEGIN:VTIMEZONE
TZID:America/Los_Angeles
BEGIN:DAYLIGHT
TZOFFSETFROM:-0800
TZOFFSETTO:-0700
TZNAME:PDT
DTSTART:20230312T100000
END:DAYLIGHT
BEGIN:STANDARD
TZOFFSETFROM:-0700
TZOFFSETTO:-0800
TZNAME:PST
DTSTART:20231105T090000
END:STANDARD
BEGIN:DAYLIGHT
TZOFFSETFROM:-0800
TZOFFSETTO:-0700
TZNAME:PDT
DTSTART:20240310T100000
END:DAYLIGHT
BEGIN:STANDARD
TZOFFSETFROM:-0700
TZOFFSETTO:-0800
TZNAME:PST
DTSTART:20241103T090000
END:STANDARD
BEGIN:DAYLIGHT
TZOFFSETFROM:-0800
TZOFFSETTO:-0700
TZNAME:PDT
DTSTART:20250309T100000
END:DAYLIGHT
BEGIN:STANDARD
TZOFFSETFROM:-0700
TZOFFSETTO:-0800
TZNAME:PST
DTSTART:20251102T090000
END:STANDARD
END:VTIMEZONE
BEGIN:VEVENT
DTSTART;TZID=America/Los_Angeles:20241031T080000
DTEND;TZID=America/Los_Angeles:20241031T170000
DTSTAMP:20260425T050829
CREATED:20241024T043421Z
LAST-MODIFIED:20241024T043421Z
UID:10000122-1730361600-1730394000@worldforestry.org
SUMMARY:Halloween at the Discovery Museum - Kids free w/ costume!
DESCRIPTION:It is getting a little spooky around the Discovery Museum\, so it is time for a little treat. Kids in Halloween costumes get in free with an accompanying paid adult ($8).
URL:https://worldforestry.org/event/halloween-at-the-discovery-museum-kids-free-w-costume/2024-10-31/1/
LOCATION:Discovery Museum\, World Forestry Center\, 4033 SW Canyon Road\, Portland\, OR\, 97221\, United States
CATEGORIES:Discovery Museum,Family-Friendly,Museum,Youth
END:VEVENT
BEGIN:VEVENT
DTSTART;TZID=America/Los_Angeles:20241031T110000
DTEND;TZID=America/Los_Angeles:20241031T160000
DTSTAMP:20260425T050829
CREATED:20241024T043421Z
LAST-MODIFIED:20241024T043421Z
UID:10000123-1730372400-1730390400@worldforestry.org
SUMMARY:Halloween at the Discovery Museum - Kids free w/ costume!
DESCRIPTION:It is getting a little spooky around the Discovery Museum\, so it is time for a little treat. Kids in Halloween costumes get in free with an accompanying paid adult ($8).
URL:https://worldforestry.org/event/halloween-at-the-discovery-museum-kids-free-w-costume/2024-10-31/2/
LOCATION:Discovery Museum\, World Forestry Center\, 4033 SW Canyon Road\, Portland\, OR\, 97221\, United States
CATEGORIES:Discovery Museum,Family-Friendly,Museum,Youth
END:VEVENT
END:VCALENDAR