BEGIN:VCALENDAR
VERSION:2.0
PRODID:-//World Forestry Center - ECPv6.15.20//NONSGML v1.0//EN
CALSCALE:GREGORIAN
METHOD:PUBLISH
X-ORIGINAL-URL:https://worldforestry.org
X-WR-CALDESC:Events for World Forestry Center
REFRESH-INTERVAL;VALUE=DURATION:PT1H
X-Robots-Tag:noindex
X-PUBLISHED-TTL:PT1H
BEGIN:VTIMEZONE
TZID:America/Los_Angeles
BEGIN:DAYLIGHT
TZOFFSETFROM:-0800
TZOFFSETTO:-0700
TZNAME:PDT
DTSTART:20240310T100000
END:DAYLIGHT
BEGIN:STANDARD
TZOFFSETFROM:-0700
TZOFFSETTO:-0800
TZNAME:PST
DTSTART:20241103T090000
END:STANDARD
BEGIN:DAYLIGHT
TZOFFSETFROM:-0800
TZOFFSETTO:-0700
TZNAME:PDT
DTSTART:20250309T100000
END:DAYLIGHT
BEGIN:STANDARD
TZOFFSETFROM:-0700
TZOFFSETTO:-0800
TZNAME:PST
DTSTART:20251102T090000
END:STANDARD
BEGIN:DAYLIGHT
TZOFFSETFROM:-0800
TZOFFSETTO:-0700
TZNAME:PDT
DTSTART:20260308T100000
END:DAYLIGHT
BEGIN:STANDARD
TZOFFSETFROM:-0700
TZOFFSETTO:-0800
TZNAME:PST
DTSTART:20261101T090000
END:STANDARD
END:VTIMEZONE
BEGIN:VEVENT
DTSTART;TZID=America/Los_Angeles:20250702T113000
DTEND;TZID=America/Los_Angeles:20250702T120000
DTSTAMP:20260419T193216
CREATED:20250430T183617Z
LAST-MODIFIED:20250430T183617Z
UID:10000168-1751455800-1751457600@worldforestry.org
SUMMARY:Forest Storytime
DESCRIPTION:On the first Wednesday of the month\, join us in the Discovery Museum’s reading nook for Forest Storytime. A storytime dedicated to forests and forest-themed books that connect adults and children and engage the imagination. Coloring pages are also available. \nThis offering is included with museum admission.
URL:https://worldforestry.org/event/forest-stories-2-2/2025-07-02/
LOCATION:Discovery Museum\, World Forestry Center\, 4033 SW Canyon Road\, Portland\, OR\, 97221\, United States
CATEGORIES:Family-Friendly,Museum
ATTACH;FMTTYPE=image/jpeg:https://worldforestry.org/wp-content/uploads/2026/02/forest-storytime-2025.jpg
END:VEVENT
BEGIN:VEVENT
DTSTART;TZID=America/Los_Angeles:20250719T100000
DTEND;TZID=America/Los_Angeles:20250719T140000
DTSTAMP:20260419T193216
CREATED:20250611T224539Z
LAST-MODIFIED:20260211T042124Z
UID:10000174-1752919200-1752933600@worldforestry.org
SUMMARY:ForestFest 2025
DESCRIPTION:Celebrate the wonders of forests with a fun-filled\, family-friendly day at ForestFest! Enjoy hands-on activities\, wood-themed crafts\, kid zones\, and live demonstrations from forestry professionals and community partners. \nEnjoy wood-themed crafts\, hands-on activities\, interactive kid zones\, games\, and a working traveling mill. Learn about forest stewardship\, explore the role of trees in our daily lives\, and experience forest-inspired art and storytelling from local makers. \n🎟 Make it a full day! Step inside our Discovery Museum to see Sasquatch: Ancestral Guardians\, our newest exhibition featuring Indigenous artists and cultural perspectives on the legendary being. Museum admission is just $8 for adults\, $5 for kids\, and free for children under 3. On July 19 only\, museum visitors will receive a free limited-edition ForestFest poster with their admission! \nForestFest is free and open to all—right in the heart of Washington Park!
URL:https://worldforestry.org/event/forestfest/
LOCATION:World Forestry Center
CATEGORIES:Discovery Museum,Family-Friendly,In the Community
ATTACH;FMTTYPE=image/jpeg:https://worldforestry.org/wp-content/uploads/2026/02/forestfest-july-2025.jpeg
END:VEVENT
BEGIN:VEVENT
DTSTART;TZID=America/Los_Angeles:20250727T130000
DTEND;TZID=America/Los_Angeles:20250727T150000
DTSTAMP:20260419T193216
CREATED:20250331T034009Z
LAST-MODIFIED:20250331T034009Z
UID:10000156-1753621200-1753628400@worldforestry.org
SUMMARY:Forest Crafts
DESCRIPTION:Join us once a month and explore your creative nature here at World Forestry Center’s Discovery Museum with our friend at RAD Creative. From Forests in a Bottle to paper snails\, seed shares\, and fairy houses – tap into your creative side and make something memorable. \nThis event is family-friendly\, and crafts are geared toward kids who can independently use scissors\, glue sticks\, and basic school supplies or with parental assistance. All crafts vary in presentation. Adult supervision at all times is required. Craft supplies\, tools\, and guidance are included with museum admission and do not require pre-registration.
URL:https://worldforestry.org/event/forest-crafts-2-2/2025-07-27/
LOCATION:Discovery Museum\, World Forestry Center\, 4033 SW Canyon Road\, Portland\, OR\, 97221\, United States
CATEGORIES:Discovery Museum,Family-Friendly
ATTACH;FMTTYPE=image/jpeg:https://worldforestry.org/wp-content/uploads/2026/02/forest-crafts-with-rad-creative.jpg
END:VEVENT
END:VCALENDAR