BEGIN:VCALENDAR
VERSION:2.0
PRODID:-//World Forestry Center - ECPv6.15.20//NONSGML v1.0//EN
CALSCALE:GREGORIAN
METHOD:PUBLISH
X-WR-CALNAME:World Forestry Center
X-ORIGINAL-URL:https://worldforestry.org
X-WR-CALDESC:Events for World Forestry Center
REFRESH-INTERVAL;VALUE=DURATION:PT1H
X-Robots-Tag:noindex
X-PUBLISHED-TTL:PT1H
BEGIN:VTIMEZONE
TZID:America/Los_Angeles
BEGIN:DAYLIGHT
TZOFFSETFROM:-0800
TZOFFSETTO:-0700
TZNAME:PDT
DTSTART:20250309T100000
END:DAYLIGHT
BEGIN:STANDARD
TZOFFSETFROM:-0700
TZOFFSETTO:-0800
TZNAME:PST
DTSTART:20251102T090000
END:STANDARD
BEGIN:DAYLIGHT
TZOFFSETFROM:-0800
TZOFFSETTO:-0700
TZNAME:PDT
DTSTART:20260308T100000
END:DAYLIGHT
BEGIN:STANDARD
TZOFFSETFROM:-0700
TZOFFSETTO:-0800
TZNAME:PST
DTSTART:20261101T090000
END:STANDARD
BEGIN:DAYLIGHT
TZOFFSETFROM:-0800
TZOFFSETTO:-0700
TZNAME:PDT
DTSTART:20270314T100000
END:DAYLIGHT
BEGIN:STANDARD
TZOFFSETFROM:-0700
TZOFFSETTO:-0800
TZNAME:PST
DTSTART:20271107T090000
END:STANDARD
END:VTIMEZONE
BEGIN:VEVENT
DTSTART;TZID=America/Los_Angeles:20261025T100000
DTEND;TZID=America/Los_Angeles:20261025T160000
DTSTAMP:20260423T034359
CREATED:20260204T203358Z
LAST-MODIFIED:20260211T033133Z
UID:10000263-1792922400-1792944000@worldforestry.org
SUMMARY:Free Day at the Discovery Museum
DESCRIPTION:Celebrate the kick off of Earth Week with World Forestry Center!!  \nEnjoy the Discovery Museum for free today as part of World Forestry Center’s Free Day Series celebrating our 60th anniversary. Explore interactive exhibits\, take part in family-friendly activities\, and connect with community partners through special programming that highlights forests\, wildfire preparedness\, and sustainability. \nThe Free Day Series is presented by Hampton Lumber.
URL:https://worldforestry.org/event/free-day-oct25/
LOCATION:Discovery Museum\, World Forestry Center\, 4033 SW Canyon Road\, Portland\, OR\, 97221\, United States
CATEGORIES:Discovery Museum,Family-Friendly,Museum
ATTACH;FMTTYPE=image/jpeg:https://worldforestry.org/wp-content/uploads/2026/02/2026-free-day-series.jpg
END:VEVENT
BEGIN:VEVENT
DTSTART;TZID=America/Los_Angeles:20261213T100000
DTEND;TZID=America/Los_Angeles:20261213T160000
DTSTAMP:20260423T034359
CREATED:20260204T204113Z
LAST-MODIFIED:20260221T033240Z
UID:10000264-1797156000-1797177600@worldforestry.org
SUMMARY:Doug Fir Day! | Free Day at the Discovery Museum
DESCRIPTION:Celebrate Oregon’s state tree with a day of forest fun! Join us for Doug Fir Day\, a family-friendly day of forest-inspired fun—make\, learn\, and play as we celebrate the Douglas-fir and the forests that connect us all. \n\nMake your own wreath or swag with Oregon Women in Timber\nDIY ornaments and crafts inspired by the mighty Douglas-fir\nDoug-fir themed activities for all ages\n\nCome together with friends\, family\, and neighbors to celebrate the forests that make Oregon home. \nThis day is part of our Free Day Series at the Discovery Museum celebrating 60 years of World Forestry Center\, presented by Hampton Lumber.
URL:https://worldforestry.org/event/doug-fir-day-2026/
LOCATION:Discovery Museum\, World Forestry Center\, 4033 SW Canyon Road\, Portland\, OR\, 97221\, United States
CATEGORIES:Discovery Museum,Family-Friendly,Youth
ATTACH;FMTTYPE=image/jpeg:https://worldforestry.org/wp-content/uploads/2026/02/doug-fir-day-2026.jpg
END:VEVENT
END:VCALENDAR