BEGIN:VCALENDAR
VERSION:2.0
PRODID:-//World Forestry Center - ECPv6.15.20//NONSGML v1.0//EN
CALSCALE:GREGORIAN
METHOD:PUBLISH
X-ORIGINAL-URL:https://worldforestry.org
X-WR-CALDESC:Events for World Forestry Center
REFRESH-INTERVAL;VALUE=DURATION:PT1H
X-Robots-Tag:noindex
X-PUBLISHED-TTL:PT1H
BEGIN:VTIMEZONE
TZID:America/Los_Angeles
BEGIN:DAYLIGHT
TZOFFSETFROM:-0800
TZOFFSETTO:-0700
TZNAME:PDT
DTSTART:20240310T100000
END:DAYLIGHT
BEGIN:STANDARD
TZOFFSETFROM:-0700
TZOFFSETTO:-0800
TZNAME:PST
DTSTART:20241103T090000
END:STANDARD
BEGIN:DAYLIGHT
TZOFFSETFROM:-0800
TZOFFSETTO:-0700
TZNAME:PDT
DTSTART:20250309T100000
END:DAYLIGHT
BEGIN:STANDARD
TZOFFSETFROM:-0700
TZOFFSETTO:-0800
TZNAME:PST
DTSTART:20251102T090000
END:STANDARD
BEGIN:DAYLIGHT
TZOFFSETFROM:-0800
TZOFFSETTO:-0700
TZNAME:PDT
DTSTART:20260308T100000
END:DAYLIGHT
BEGIN:STANDARD
TZOFFSETFROM:-0700
TZOFFSETTO:-0800
TZNAME:PST
DTSTART:20261101T090000
END:STANDARD
BEGIN:DAYLIGHT
TZOFFSETFROM:-0800
TZOFFSETTO:-0700
TZNAME:PDT
DTSTART:20270314T100000
END:DAYLIGHT
BEGIN:STANDARD
TZOFFSETFROM:-0700
TZOFFSETTO:-0800
TZNAME:PST
DTSTART:20271107T090000
END:STANDARD
END:VTIMEZONE
BEGIN:VEVENT
DTSTART;VALUE=DATE:20250530
DTEND;VALUE=DATE:20260201
DTSTAMP:20260421T103432
CREATED:20250415T165400Z
LAST-MODIFIED:20260211T043517Z
UID:10000163-1748563200-1769903999@worldforestry.org
SUMMARY:Sasquatch: Ancestral Guardians
DESCRIPTION:“We must walk lightly when we are between worlds with this sacred being.” – Phillip Cash Cash \nIndigenous peoples have long been in relationship with and shared stories about sacred forest protectors\, often called Sasquatch and Bigfoot. The works in this exhibition are made by Indigenous artists and honor generations of spiritual practices\, storytelling\, and tradition. Leave your preconceived notions behind and immerse yourself\, not in the question of if Sasquatch exists\, but rather\, how are we existing with and honoring this non-human other. \nThis exhibition has been extended to January 31\, 2026\, at the Discovery Museum. \nCurated to align with the mission of World Forestry Center\, this exhibition was created in collaboration with these Indigenous artists and the High Desert Museum in Bend\, Oregon\, which featured the exhibition Sensing Sasquatch in 2024. \n\n\n\n\n\n\n\n\n\n\nThe exhibition is advised by and consists of original artwork by: Phillip Cash Cash\, Ph.D. (Nez Perce\, Cayuse)\, HollyAnna CougarTracks DeCoteau Littlebull (Yakama\, Nez Perce\, Cayuse\, Cree)\, Charlene “Tillie” Dimmick (Warm Springs)\, Frank Buffalo Hyde (Nez Perce\, Onondaga) and Rocky LaRock (Salish)\, Greg Archuleta (Grand Ronde). \nLearn more about the exhibit here.
URL:https://worldforestry.org/event/sasquatch-ancestral-guardians/
LOCATION:Discovery Museum Gallery\, 4033 SW Canyon Rd.\, Portland\, OR\, 97221\, United States
ATTACH;FMTTYPE=image/jpeg:https://worldforestry.org/wp-content/uploads/2026/02/sasquatch-ancestral-guardians.jpeg
END:VEVENT
BEGIN:VEVENT
DTSTART;TZID=America/Los_Angeles:20251001T113000
DTEND;TZID=America/Los_Angeles:20251001T120000
DTSTAMP:20260421T103432
CREATED:20250430T183617Z
LAST-MODIFIED:20250430T183617Z
UID:10000171-1759318200-1759320000@worldforestry.org
SUMMARY:Forest Storytime
DESCRIPTION:On the first Wednesday of the month\, join us in the Discovery Museum’s reading nook for Forest Storytime. A storytime dedicated to forests and forest-themed books that connect adults and children and engage the imagination. Coloring pages are also available. \nThis offering is included with museum admission.
URL:https://worldforestry.org/event/forest-stories-2-2/2025-10-01/
LOCATION:Discovery Museum\, World Forestry Center\, 4033 SW Canyon Road\, Portland\, OR\, 97221\, United States
CATEGORIES:Family-Friendly,Museum
ATTACH;FMTTYPE=image/jpeg:https://worldforestry.org/wp-content/uploads/2026/02/forest-storytime-2025.jpg
END:VEVENT
BEGIN:VEVENT
DTSTART;TZID=America/Los_Angeles:20251012T110000
DTEND;TZID=America/Los_Angeles:20251012T113000
DTSTAMP:20260421T103432
CREATED:20251001T173208Z
LAST-MODIFIED:20260211T041801Z
UID:10000180-1760266800-1760268600@worldforestry.org
SUMMARY:Author Storytime: When a Tree Falls w/ Kristen Pendreigh
DESCRIPTION:Join us on Saturday\, October 12 for a special storytime with author Kristen Pendreigh\, who will share her picture book When a Tree Falls: Nurse Logs and Their Incredible Forest Power. \nThis beautifully illustrated story introduces children to the wonder of nurse logs—fallen trees that nurture new seedlings\, shelter animals\, and help forests thrive. \nAfter the reading\, Kristen will lead a fun hands-on craft activity inspired by the forest\, perfect for kids to explore their creativity and curiosity about nature.
URL:https://worldforestry.org/event/storytime-when-a-tree-falls/
LOCATION:Discovery Museum\, World Forestry Center\, 4033 SW Canyon Road\, Portland\, OR\, 97221\, United States
CATEGORIES:Discovery Museum,Family-Friendly,Museum
ATTACH;FMTTYPE=image/jpeg:https://worldforestry.org/wp-content/uploads/2026/02/When-a-Tree-Falls-Reading-Poster.jpg
END:VEVENT
BEGIN:VEVENT
DTSTART;TZID=America/Los_Angeles:20251013T190000
DTEND;TZID=America/Los_Angeles:20251013T203000
DTSTAMP:20260421T103432
CREATED:20250710T214707Z
LAST-MODIFIED:20260220T083212Z
UID:10000178-1760382000-1760387400@worldforestry.org
SUMMARY:Forest Pub: Spooky Forest Tree Lore
DESCRIPTION:Tickets are SOLD OUT!\n👻 Join us this October for a hauntingly fun edition of Forest Pub! Cozy up with a drink and dive into the eerie side of forest folk stories. This special night blends seasonal vibes with woodland wonder—perfect for autumn. \nLocal folklore educator and author Corinne Boyer will share the darker side of European tree lore. People of the past held a healthy fear of the forest landscape\, in part because of the presence of tree spirits. Corinne will examine human interactions with these spirits\, focusing on three main categories believed to inhabit ancient trees and forests: Demons\, Witches\, and Spirits of the Dead. She will distinguish between these categories and share specific examples of trees with ill-omened reputations. In a journey through ancient woods\, Corinne will also illuminate how folklore wisdom continues to be relevant today. \nJoin us as we explore this dark\, strange\, and evocative lore\, where the enchanted and inspirited forest world was part of daily life. \nSpeaker: \nCorinne Boyer is a folk herbalist\, teacher\, and author with a passion for traditions surrounding plants and folk magic. She has been teaching and writing full-time about the history and folklore of plants\, folk medicine\, and the plant traditions of northern and western Europe and North America since 2010. She has written over ten books and has published articles in multiple occult journals since 2015. www.maplemistwood.com
URL:https://worldforestry.org/event/october2025-forest-pub/
LOCATION:McMenamins Mission Theater\, 1624 NW Glisan St\, Portland\, OR\, 97209\, United States
CATEGORIES:Adult,Forest Pub,In the Community
ATTACH;FMTTYPE=image/jpeg:https://worldforestry.org/wp-content/uploads/2026/02/forest-pub-spooky-tree-lore.jpeg
END:VEVENT
BEGIN:VEVENT
DTSTART;TZID=America/Los_Angeles:20251019T130000
DTEND;TZID=America/Los_Angeles:20251019T150000
DTSTAMP:20260421T103432
CREATED:20250331T034009Z
LAST-MODIFIED:20250331T034009Z
UID:10000158-1760878800-1760886000@worldforestry.org
SUMMARY:Forest Crafts
DESCRIPTION:Join us once a month and explore your creative nature here at World Forestry Center’s Discovery Museum with our friend at RAD Creative. From Forests in a Bottle to paper snails\, seed shares\, and fairy houses – tap into your creative side and make something memorable. \nThis event is family-friendly\, and crafts are geared toward kids who can independently use scissors\, glue sticks\, and basic school supplies or with parental assistance. All crafts vary in presentation. Adult supervision at all times is required. Craft supplies\, tools\, and guidance are included with museum admission and do not require pre-registration.
URL:https://worldforestry.org/event/forest-crafts-2-2/2025-10-19/
LOCATION:Discovery Museum\, World Forestry Center\, 4033 SW Canyon Road\, Portland\, OR\, 97221\, United States
CATEGORIES:Discovery Museum,Family-Friendly
ATTACH;FMTTYPE=image/jpeg:https://worldforestry.org/wp-content/uploads/2026/02/forest-crafts-with-rad-creative.jpg
END:VEVENT
BEGIN:VEVENT
DTSTART;TZID=America/Los_Angeles:20251022T193000
DTEND;TZID=America/Los_Angeles:20251022T213000
DTSTAMP:20260421T103432
CREATED:20250703T202153Z
LAST-MODIFIED:20250703T202153Z
UID:10000175-1761161400-1761168600@worldforestry.org
SUMMARY:Evergreen
DESCRIPTION:World Forestry Center is proud to partner with Third Angle New Music to celebrate the place 3A has called home for 40 years. This special performance features a string quartet and clarinet playing 3A-commissioned works inspired by the Pacific Northwest\, paired with poetry recited by former Oregon Poet Laureate Kim Stafford. \nThe program includes The Evergreen by Caroline Shaw—a tribute to an elder tree on Swiikw (Galiano Island)\, British Columbia; Perpetual Spring by Dai Fujikura\, capturing nature’s quiet\, resilient force; Evening Prayer by Quinn Mason\, a tranquil wish for better times; and a world première composition by 3A violist Wendy Richman. \nPurchase your ticket here!\nPROGRAM \n\nCaroline Shaw / The Evergreen\nDai Fujikura / Perpetual Spring\nWendy Richman / New Work (Title TBD)\nQuinn Mason / Evening Prayer\nPoetry by Kim Stafford\n\n\nROSTER\n \n\nLing-Ling Huang\, violin\nGreg Ewer\, violin\nWendy Richman\, viola\nValdine Ritchie Mishkin\, cello\nJames Shields\, clarinet\nKim Stafford\, poet
URL:https://worldforestry.org/event/evergreen/2025-10-22/
LOCATION:Miller Hall at the World Forestry Center\, 4033 SW Canyon Rd.\, Portland\, OR\, 97221\, United States
CATEGORIES:Adult,In the Community
ATTACH;FMTTYPE=image/jpeg:https://worldforestry.org/wp-content/uploads/2026/02/evergreen-event.jpg
END:VEVENT
BEGIN:VEVENT
DTSTART;TZID=America/Los_Angeles:20251023T193000
DTEND;TZID=America/Los_Angeles:20251023T213000
DTSTAMP:20260421T103432
CREATED:20250703T202153Z
LAST-MODIFIED:20250703T202153Z
UID:10000176-1761247800-1761255000@worldforestry.org
SUMMARY:Evergreen
DESCRIPTION:World Forestry Center is proud to partner with Third Angle New Music to celebrate the place 3A has called home for 40 years. This special performance features a string quartet and clarinet playing 3A-commissioned works inspired by the Pacific Northwest\, paired with poetry recited by former Oregon Poet Laureate Kim Stafford. \nThe program includes The Evergreen by Caroline Shaw—a tribute to an elder tree on Swiikw (Galiano Island)\, British Columbia; Perpetual Spring by Dai Fujikura\, capturing nature’s quiet\, resilient force; Evening Prayer by Quinn Mason\, a tranquil wish for better times; and a world première composition by 3A violist Wendy Richman. \nPurchase your ticket here!\nPROGRAM \n\nCaroline Shaw / The Evergreen\nDai Fujikura / Perpetual Spring\nWendy Richman / New Work (Title TBD)\nQuinn Mason / Evening Prayer\nPoetry by Kim Stafford\n\n\nROSTER\n \n\nLing-Ling Huang\, violin\nGreg Ewer\, violin\nWendy Richman\, viola\nValdine Ritchie Mishkin\, cello\nJames Shields\, clarinet\nKim Stafford\, poet
URL:https://worldforestry.org/event/evergreen/2025-10-23/
LOCATION:Miller Hall at the World Forestry Center\, 4033 SW Canyon Rd.\, Portland\, OR\, 97221\, United States
CATEGORIES:Adult,In the Community
ATTACH;FMTTYPE=image/jpeg:https://worldforestry.org/wp-content/uploads/2026/02/evergreen-event.jpg
END:VEVENT
BEGIN:VEVENT
DTSTART;TZID=America/Los_Angeles:20251026T100000
DTEND;TZID=America/Los_Angeles:20251026T160000
DTSTAMP:20260421T103432
CREATED:20250317T131137Z
LAST-MODIFIED:20250317T131137Z
UID:10000150-1761472800-1761494400@worldforestry.org
SUMMARY:Free Day Series at the Discovery Museum
DESCRIPTION:Explore the wonders of World Forestry Center’s Discovery Museum at no cost today\, from 10 am – 4 pm. Free Day Series at the Discovery Museum is brought to you by the Ben B. Cheney Foundation\, in celebration of the Foundation’s 50th Anniversary and its enduring commitment to community. \nJoin us for the full series: March 24\, April 27\, August 24\, October 26\, and November 30. \nAbout the Ben B. Cheney Foundation: Businessman\, entrepreneur\, and sports enthusiast Ben B. Cheney lived life fully and richly\, devoting himself to his work\, his family and his community. The Ben B. Cheney Foundation strives to carry on his hopes and dreams by making grants and helping to improve the quality of life in the communities where the Cheney Lumber Company operated. \nAbout the Discovery Museum: Located in Portland’s forested Washington Park\, World Forestry Center’s Discovery Museum invites visitors to examine forests and consider all the ways they impact our lives. Visitors get a bird’s-eye view of a northwest forest\, explore society’s connection to the woods\, and learn about the challenges and opportunities facing this critical natural resource. Through interactive and featured art exhibits\, visitors can learn how the way forests are managed affects everyday lives and how they are crucial to the forestry conversation.
URL:https://worldforestry.org/event/freedayseries/2025-10-26/
LOCATION:Discovery Museum\, World Forestry Center\, 4033 SW Canyon Road\, Portland\, OR\, 97221\, United States
CATEGORIES:Discovery Museum,Family-Friendly,Museum
ATTACH;FMTTYPE=image/jpeg:https://worldforestry.org/wp-content/uploads/2026/02/free-day-series-november-2025.jpeg
END:VEVENT
END:VCALENDAR