BEGIN:VCALENDAR
VERSION:2.0
PRODID:-//World Forestry Center - ECPv6.15.20//NONSGML v1.0//EN
CALSCALE:GREGORIAN
METHOD:PUBLISH
X-ORIGINAL-URL:https://worldforestry.org
X-WR-CALDESC:Events for World Forestry Center
REFRESH-INTERVAL;VALUE=DURATION:PT1H
X-Robots-Tag:noindex
X-PUBLISHED-TTL:PT1H
BEGIN:VTIMEZONE
TZID:America/Los_Angeles
BEGIN:DAYLIGHT
TZOFFSETFROM:-0800
TZOFFSETTO:-0700
TZNAME:PDT
DTSTART:20160313T100000
END:DAYLIGHT
BEGIN:STANDARD
TZOFFSETFROM:-0700
TZOFFSETTO:-0800
TZNAME:PST
DTSTART:20161106T090000
END:STANDARD
BEGIN:DAYLIGHT
TZOFFSETFROM:-0800
TZOFFSETTO:-0700
TZNAME:PDT
DTSTART:20170312T100000
END:DAYLIGHT
BEGIN:STANDARD
TZOFFSETFROM:-0700
TZOFFSETTO:-0800
TZNAME:PST
DTSTART:20171105T090000
END:STANDARD
BEGIN:DAYLIGHT
TZOFFSETFROM:-0800
TZOFFSETTO:-0700
TZNAME:PDT
DTSTART:20180311T100000
END:DAYLIGHT
BEGIN:STANDARD
TZOFFSETFROM:-0700
TZOFFSETTO:-0800
TZNAME:PST
DTSTART:20181104T090000
END:STANDARD
END:VTIMEZONE
BEGIN:VEVENT
DTSTART;TZID=America/Los_Angeles:20170408T170000
DTEND;TZID=America/Los_Angeles:20170408T210000
DTSTAMP:20260421T140021
CREATED:20160912T220623Z
LAST-MODIFIED:20260211T091335Z
UID:10000012-1491670800-1491685200@worldforestry.org
SUMMARY:World Forestry Center Gala
DESCRIPTION:A Special Gala to Honor Leadership Hall Inductees\nThe World Forestry Center is excited to announce a special Gala on Saturday\, April 8\, 2017\, to honor our 210 distinguished Forestry Leadership Hall Inductees\, both living and deceased. Proceeds from this event will be used to support the vitally important work of the World Forestry Center and the International Fellowship Program that extends the legacy of our Inductees to a global level. \nFestivities start at 5 pm Dinner and Entertainment start at 6 pm\nBuy Tickets
URL:https://worldforestry.org/event/wings-wheels-whiskey/
LOCATION:Global Aviation Hangar\, 2250 NE 25th Avenue\, Hillsboro\, OR\, 97214\, United States
END:VEVENT
END:VCALENDAR